BEGIN:VCALENDAR
VERSION:2.0
PRODID:-//Intand Corporation//Tandem//EN
METHOD:PUBLISH
BEGIN:VEVENT
DTSTAMP:20260425T155021Z
DTSTART:20260619T010000Z
DTEND:20260619T040000Z
TRANSP:TRANSPARENT
PRIORITY:0
SUMMARY:Secondary School ACER Scholarship Applications Open (Year 10 2027)
LOCATION:Holy Cross College
DESCRIPTION:Location:\nHoly Cross College\n\n
URL;VALUE=URI:http://holycrosscollege.tandem.co/index.php?type=view&action
 =event&id=11010
CREATED:20260225T072553Z
LAST-MODIFIED:20260225T072553Z
UID:event-11010-holycrosscollege@intand.com
END:VEVENT
END:VCALENDAR
