BEGIN:VCALENDAR
VERSION:2.0
PRODID:-//Intand Corporation//Tandem//EN
METHOD:PUBLISH
BEGIN:VEVENT
DTSTAMP:20260425T155038Z
DTSTART:20260604T090000Z
DTEND:20260604T120000Z
TRANSP:TRANSPARENT
PRIORITY:0
SUMMARY:Careers Expo
LOCATION:Holy Cross College
DESCRIPTION:Careers Expo\n\n\nLocation:\nHoly Cross College\n\n
URL;VALUE=URI:http://holycrosscollege.tandem.co/index.php?type=view&action
 =event&id=10699
CREATED:20260114T123045Z
LAST-MODIFIED:20260306T025715Z
UID:event-10699-holycrosscollege@intand.com
END:VEVENT
END:VCALENDAR
