BEGIN:VCALENDAR
VERSION:2.0
PRODID:-//Intand Corporation//Tandem//EN
METHOD:PUBLISH
BEGIN:VEVENT
DTSTAMP:20260425T155021Z
DTSTART;VALUE=DATE:20260513
DTEND;VALUE=DATE:20260514
TRANSP:TRANSPARENT
PRIORITY:0
SUMMARY:Year 11 Textiles Excursion to St Vinnies
LOCATION:Holy Cross College
DESCRIPTION:Year 11 Textiles Excursion to St Vinnies\n\nLocation:\nHoly Cr
 oss College\n\n
URL;VALUE=URI:http://holycrosscollege.tandem.co/index.php?type=view&action
 =event&id=10660
CREATED:20260114T123044Z
LAST-MODIFIED:20260114T123044Z
UID:event-10660-holycrosscollege@intand.com
END:VEVENT
END:VCALENDAR
