BEGIN:VCALENDAR
VERSION:2.0
PRODID:-//Intand Corporation//Tandem//EN
METHOD:PUBLISH
BEGIN:VEVENT
DTSTAMP:20260425T155830Z
DTSTART:20260504T224500Z
DTEND:20260505T000000Z
TRANSP:TRANSPARENT
PRIORITY:0
SUMMARY:Cross Country Training
LOCATION:Holy Cross College
DESCRIPTION:Cross Country Training 6:45am - 8:00am\n\nLocation:\nHoly Cros
 s College\n\n
URL;VALUE=URI:http://holycrosscollege.tandem.co/index.php?type=view&action
 =event&id=10650
CREATED:20260114T123044Z
LAST-MODIFIED:20260114T123044Z
UID:event-10650-holycrosscollege@intand.com
END:VEVENT
END:VCALENDAR
