BEGIN:VCALENDAR
VERSION:2.0
PRODID:-//Intand Corporation//Tandem//EN
METHOD:PUBLISH
BEGIN:VEVENT
DTSTAMP:20260425T122322Z
DTSTART:20260429T224500Z
DTEND:20260430T000000Z
TRANSP:TRANSPARENT
PRIORITY:0
SUMMARY:Junior School Swimming Training
LOCATION:Holy Cross College
DESCRIPTION:Junior School Swimming Training\n\nLocation:\nHoly Cross Colle
 ge\n\n
URL;VALUE=URI:http://holycrosscollege.tandem.co/index.php?type=view&action
 =event&id=10639
CREATED:20260114T123044Z
LAST-MODIFIED:20260114T123044Z
UID:event-10639-holycrosscollege@intand.com
END:VEVENT
END:VCALENDAR
