BEGIN:VCALENDAR
VERSION:2.0
PRODID:-//Intand Corporation//Tandem//EN
METHOD:PUBLISH
BEGIN:VEVENT
DTSTAMP:20260425T122342Z
DTSTART;VALUE=DATE:20260428
DTEND;VALUE=DATE:20260429
TRANSP:TRANSPARENT
PRIORITY:0
SUMMARY:Student Home Study Day.
LOCATION:Holy Cross College
DESCRIPTION:Student Home Study Day.\n\nLocation:\nHoly Cross College\n\n
URL;VALUE=URI:http://holycrosscollege.tandem.co/index.php?type=view&action
 =event&id=10634
CREATED:20260114T123044Z
LAST-MODIFIED:20260114T123044Z
UID:event-10634-holycrosscollege@intand.com
END:VEVENT
END:VCALENDAR
