BEGIN:VCALENDAR
VERSION:2.0
PRODID:-//Intand Corporation//Tandem//EN
METHOD:PUBLISH
BEGIN:VEVENT
DTSTAMP:20260425T122340Z
DTSTART;VALUE=DATE:20260402
DTEND;VALUE=DATE:20260403
TRANSP:TRANSPARENT
PRIORITY:0
SUMMARY:Term 1 Concludes
LOCATION:Holy Cross College
DESCRIPTION:Term 1 Concludes\n\nLocation:\nHoly Cross College\n\n
URL;VALUE=URI:http://holycrosscollege.tandem.co/index.php?type=view&action
 =event&id=10612
CREATED:20260114T123044Z
LAST-MODIFIED:20260114T123044Z
UID:event-10612-holycrosscollege@intand.com
END:VEVENT
END:VCALENDAR
