BEGIN:VCALENDAR
VERSION:2.0
PRODID:-//Intand Corporation//Tandem//EN
METHOD:PUBLISH
BEGIN:VEVENT
DTSTAMP:20260425T122403Z
DTSTART;VALUE=DATE:20260330
DTEND;VALUE=DATE:20260331
TRANSP:TRANSPARENT
PRIORITY:0
SUMMARY:Year 12 OED Camp Begins
LOCATION:Holy Cross College
DESCRIPTION:Year 12 OED Camp Begins\n\nLocation:\nHoly Cross College\n\n
URL;VALUE=URI:http://holycrosscollege.tandem.co/index.php?type=view&action
 =event&id=10605
CREATED:20260114T123044Z
LAST-MODIFIED:20260114T123044Z
UID:event-10605-holycrosscollege@intand.com
END:VEVENT
END:VCALENDAR
