BEGIN:VCALENDAR
VERSION:2.0
PRODID:-//Intand Corporation//Tandem//EN
METHOD:PUBLISH
BEGIN:VEVENT
DTSTAMP:20260425T122236Z
DTSTART;VALUE=DATE:20260402
DTEND;VALUE=DATE:20260403
TRANSP:TRANSPARENT
PRIORITY:0
SUMMARY:Inter-House Cross Country - Rescheduled Date
LOCATION:Holy Cross College
DESCRIPTION:Inter-House Cross Country\n\n\nLocation:\nHoly Cross College\n
 \n
URL;VALUE=URI:http://holycrosscollege.tandem.co/index.php?type=view&action
 =event&id=10603
CREATED:20260114T123044Z
LAST-MODIFIED:20260325T043516Z
UID:event-10603-holycrosscollege@intand.com
END:VEVENT
END:VCALENDAR
